BEGIN:VCALENDAR
VERSION:2.0
PRODID:-//Northern Delaware Wrestling Academy - ECPv6.10.2//NONSGML v1.0//EN
CALSCALE:GREGORIAN
METHOD:PUBLISH
X-WR-CALNAME:Northern Delaware Wrestling Academy
X-ORIGINAL-URL:https://northerndelawarewrestlingacademy.org
X-WR-CALDESC:Events for Northern Delaware Wrestling Academy
REFRESH-INTERVAL;VALUE=DURATION:PT1H
X-Robots-Tag:noindex
X-PUBLISHED-TTL:PT1H
BEGIN:VTIMEZONE
TZID:UTC
BEGIN:STANDARD
TZOFFSETFROM:+0000
TZOFFSETTO:+0000
TZNAME:UTC
DTSTART:20230101T000000
END:STANDARD
END:VTIMEZONE
BEGIN:VEVENT
DTSTART;TZID=UTC:20230926T190000
DTEND;TZID=UTC:20230926T203000
DTSTAMP:20260422T052446
CREATED:20230915T143643Z
LAST-MODIFIED:20230915T143643Z
UID:1004-1695754800-1695760200@northerndelawarewrestlingacademy.org
SUMMARY:Practice - Advanced
DESCRIPTION:
URL:https://northerndelawarewrestlingacademy.org/event/practice-advanced-3/
LOCATION:Appoquinimink High School\, 1080 Bunker Hill Rd\, Middletown\, DE\, 19709
END:VEVENT
BEGIN:VEVENT
DTSTART;TZID=UTC:20230926T173000
DTEND;TZID=UTC:20230926T190000
DTSTAMP:20260422T052446
CREATED:20230915T143602Z
LAST-MODIFIED:20230915T143602Z
UID:1002-1695749400-1695754800@northerndelawarewrestlingacademy.org
SUMMARY:Practice - Novice
DESCRIPTION:
URL:https://northerndelawarewrestlingacademy.org/event/practice-novice-3/
LOCATION:Appoquinimink High School\, 1080 Bunker Hill Rd\, Middletown\, DE\, 19709
END:VEVENT
BEGIN:VEVENT
DTSTART;TZID=UTC:20230921T190000
DTEND;TZID=UTC:20230921T203000
DTSTAMP:20260422T052446
CREATED:20230915T143328Z
LAST-MODIFIED:20230915T143328Z
UID:999-1695322800-1695328200@northerndelawarewrestlingacademy.org
SUMMARY:Practice - Advanced
DESCRIPTION:
URL:https://northerndelawarewrestlingacademy.org/event/practice-advanced-2/
LOCATION:Appoquinimink High School\, 1080 Bunker Hill Rd\, Middletown\, DE\, 19709
END:VEVENT
BEGIN:VEVENT
DTSTART;TZID=UTC:20230921T173000
DTEND;TZID=UTC:20230921T190000
DTSTAMP:20260422T052446
CREATED:20230915T143249Z
LAST-MODIFIED:20230915T143444Z
UID:997-1695317400-1695322800@northerndelawarewrestlingacademy.org
SUMMARY:Practice - Novice
DESCRIPTION:
URL:https://northerndelawarewrestlingacademy.org/event/practice-novice-2/
LOCATION:Appoquinimink High School\, 1080 Bunker Hill Rd\, Middletown\, DE\, 19709
END:VEVENT
BEGIN:VEVENT
DTSTART;TZID=UTC:20230919T190000
DTEND;TZID=UTC:20230919T203000
DTSTAMP:20260422T052446
CREATED:20230919T172124Z
LAST-MODIFIED:20230919T172124Z
UID:1221-1695150000-1695155400@northerndelawarewrestlingacademy.org
SUMMARY:Practice - Advanced
DESCRIPTION:
URL:https://northerndelawarewrestlingacademy.org/event/practice-advanced-26/
LOCATION:DE
END:VEVENT
BEGIN:VEVENT
DTSTART;TZID=UTC:20230919T173000
DTEND;TZID=UTC:20230919T190000
DTSTAMP:20260422T052446
CREATED:20230915T142316Z
LAST-MODIFIED:20230915T143145Z
UID:992-1695144600-1695150000@northerndelawarewrestlingacademy.org
SUMMARY:Practice - Novice
DESCRIPTION:
URL:https://northerndelawarewrestlingacademy.org/event/practice-novice/
LOCATION:Appoquinimink High School\, 1080 Bunker Hill Rd\, Middletown\, DE\, 19709
END:VEVENT
END:VCALENDAR