BEGIN:VCALENDAR
VERSION:2.0
PRODID:-//Northern Delaware Wrestling Academy - ECPv6.10.2//NONSGML v1.0//EN
CALSCALE:GREGORIAN
METHOD:PUBLISH
X-WR-CALNAME:Northern Delaware Wrestling Academy
X-ORIGINAL-URL:https://northerndelawarewrestlingacademy.org
X-WR-CALDESC:Events for Northern Delaware Wrestling Academy
REFRESH-INTERVAL;VALUE=DURATION:PT1H
X-Robots-Tag:noindex
X-PUBLISHED-TTL:PT1H
BEGIN:VTIMEZONE
TZID:UTC
BEGIN:STANDARD
TZOFFSETFROM:+0000
TZOFFSETTO:+0000
TZNAME:UTC
DTSTART:20230101T000000
END:STANDARD
END:VTIMEZONE
BEGIN:VEVENT
DTSTART;TZID=UTC:20231012T173000
DTEND;TZID=UTC:20231012T190000
DTSTAMP:20260422T035911
CREATED:20230915T144632Z
LAST-MODIFIED:20230915T144632Z
UID:1022-1697131800-1697137200@northerndelawarewrestlingacademy.org
SUMMARY:Practice - Novice
DESCRIPTION:
URL:https://northerndelawarewrestlingacademy.org/event/practice-novice-8/
LOCATION:Appoquinimink High School\, 1080 Bunker Hill Rd\, Middletown\, DE\, 19709
END:VEVENT
BEGIN:VEVENT
DTSTART;TZID=UTC:20231010T190000
DTEND;TZID=UTC:20231010T203000
DTSTAMP:20260422T035911
CREATED:20230915T144406Z
LAST-MODIFIED:20230915T144406Z
UID:1020-1696964400-1696969800@northerndelawarewrestlingacademy.org
SUMMARY:Practice - Advanced
DESCRIPTION:
URL:https://northerndelawarewrestlingacademy.org/event/practice-advanced-7/
LOCATION:Appoquinimink High School\, 1080 Bunker Hill Rd\, Middletown\, DE\, 19709
END:VEVENT
BEGIN:VEVENT
DTSTART;TZID=UTC:20231010T173000
DTEND;TZID=UTC:20231010T190000
DTSTAMP:20260422T035911
CREATED:20230915T144323Z
LAST-MODIFIED:20230915T144323Z
UID:1018-1696959000-1696964400@northerndelawarewrestlingacademy.org
SUMMARY:Practice - Novice
DESCRIPTION:
URL:https://northerndelawarewrestlingacademy.org/event/practice-novice-7/
LOCATION:Appoquinimink High School\, 1080 Bunker Hill Rd\, Middletown\, DE\, 19709
END:VEVENT
BEGIN:VEVENT
DTSTART;TZID=UTC:20231005T190000
DTEND;TZID=UTC:20231005T203000
DTSTAMP:20260422T035911
CREATED:20230915T144250Z
LAST-MODIFIED:20230915T144250Z
UID:1016-1696532400-1696537800@northerndelawarewrestlingacademy.org
SUMMARY:Practice - Advanced
DESCRIPTION:
URL:https://northerndelawarewrestlingacademy.org/event/practice-advanced-6/
LOCATION:Appoquinimink High School\, 1080 Bunker Hill Rd\, Middletown\, DE\, 19709
END:VEVENT
BEGIN:VEVENT
DTSTART;TZID=UTC:20231005T173000
DTEND;TZID=UTC:20231005T190000
DTSTAMP:20260422T035911
CREATED:20230915T144217Z
LAST-MODIFIED:20230915T144217Z
UID:1014-1696527000-1696532400@northerndelawarewrestlingacademy.org
SUMMARY:Practice - Novice
DESCRIPTION:
URL:https://northerndelawarewrestlingacademy.org/event/practice-novice-6/
LOCATION:Appoquinimink High School\, 1080 Bunker Hill Rd\, Middletown\, DE\, 19709
END:VEVENT
BEGIN:VEVENT
DTSTART;TZID=UTC:20231003T190000
DTEND;TZID=UTC:20231003T203000
DTSTAMP:20260422T035911
CREATED:20230915T144127Z
LAST-MODIFIED:20230915T144127Z
UID:1012-1696359600-1696365000@northerndelawarewrestlingacademy.org
SUMMARY:Practice - Advanced
DESCRIPTION:
URL:https://northerndelawarewrestlingacademy.org/event/practice-advanced-5/
LOCATION:Appoquinimink High School\, 1080 Bunker Hill Rd\, Middletown\, DE\, 19709
END:VEVENT
BEGIN:VEVENT
DTSTART;TZID=UTC:20231003T173000
DTEND;TZID=UTC:20231003T190000
DTSTAMP:20260422T035911
CREATED:20230915T144056Z
LAST-MODIFIED:20230915T144056Z
UID:1010-1696354200-1696359600@northerndelawarewrestlingacademy.org
SUMMARY:Practice - Novice
DESCRIPTION:
URL:https://northerndelawarewrestlingacademy.org/event/practice-novice-5/
LOCATION:Appoquinimink High School\, 1080 Bunker Hill Rd\, Middletown\, DE\, 19709
END:VEVENT
BEGIN:VEVENT
DTSTART;VALUE=DATE:20230930
DTEND;VALUE=DATE:20231001
DTSTAMP:20260422T035911
CREATED:20230915T150307Z
LAST-MODIFIED:20230915T152320Z
UID:1049-1696032000-1696118399@northerndelawarewrestlingacademy.org
SUMMARY:Back to School Dual Meet & Open Wrestling Tournament
DESCRIPTION:
URL:https://northerndelawarewrestlingacademy.org/event/back-to-school-dual-meet-open-wrestling-tournament/
LOCATION:William Penn High School\, New Castle\, DE
CATEGORIES:Tournaments
END:VEVENT
BEGIN:VEVENT
DTSTART;TZID=UTC:20230928T190000
DTEND;TZID=UTC:20230928T203000
DTSTAMP:20260422T035911
CREATED:20230915T143805Z
LAST-MODIFIED:20230915T143805Z
UID:1008-1695927600-1695933000@northerndelawarewrestlingacademy.org
SUMMARY:Practice - Advanced
DESCRIPTION:
URL:https://northerndelawarewrestlingacademy.org/event/practice-advanced-4/
LOCATION:Appoquinimink High School\, 1080 Bunker Hill Rd\, Middletown\, DE\, 19709
END:VEVENT
BEGIN:VEVENT
DTSTART;TZID=UTC:20230928T173000
DTEND;TZID=UTC:20230928T190000
DTSTAMP:20260422T035911
CREATED:20230915T143726Z
LAST-MODIFIED:20230915T143939Z
UID:1006-1695922200-1695927600@northerndelawarewrestlingacademy.org
SUMMARY:Practice - Novice
DESCRIPTION:
URL:https://northerndelawarewrestlingacademy.org/event/practice-novice-4/
LOCATION:Appoquinimink High School\, 1080 Bunker Hill Rd\, Middletown\, DE\, 19709
END:VEVENT
BEGIN:VEVENT
DTSTART;TZID=UTC:20230926T190000
DTEND;TZID=UTC:20230926T203000
DTSTAMP:20260422T035911
CREATED:20230915T143643Z
LAST-MODIFIED:20230915T143643Z
UID:1004-1695754800-1695760200@northerndelawarewrestlingacademy.org
SUMMARY:Practice - Advanced
DESCRIPTION:
URL:https://northerndelawarewrestlingacademy.org/event/practice-advanced-3/
LOCATION:Appoquinimink High School\, 1080 Bunker Hill Rd\, Middletown\, DE\, 19709
END:VEVENT
BEGIN:VEVENT
DTSTART;TZID=UTC:20230926T173000
DTEND;TZID=UTC:20230926T190000
DTSTAMP:20260422T035911
CREATED:20230915T143602Z
LAST-MODIFIED:20230915T143602Z
UID:1002-1695749400-1695754800@northerndelawarewrestlingacademy.org
SUMMARY:Practice - Novice
DESCRIPTION:
URL:https://northerndelawarewrestlingacademy.org/event/practice-novice-3/
LOCATION:Appoquinimink High School\, 1080 Bunker Hill Rd\, Middletown\, DE\, 19709
END:VEVENT
BEGIN:VEVENT
DTSTART;TZID=UTC:20230921T190000
DTEND;TZID=UTC:20230921T203000
DTSTAMP:20260422T035911
CREATED:20230915T143328Z
LAST-MODIFIED:20230915T143328Z
UID:999-1695322800-1695328200@northerndelawarewrestlingacademy.org
SUMMARY:Practice - Advanced
DESCRIPTION:
URL:https://northerndelawarewrestlingacademy.org/event/practice-advanced-2/
LOCATION:Appoquinimink High School\, 1080 Bunker Hill Rd\, Middletown\, DE\, 19709
END:VEVENT
BEGIN:VEVENT
DTSTART;TZID=UTC:20230921T173000
DTEND;TZID=UTC:20230921T190000
DTSTAMP:20260422T035911
CREATED:20230915T143249Z
LAST-MODIFIED:20230915T143444Z
UID:997-1695317400-1695322800@northerndelawarewrestlingacademy.org
SUMMARY:Practice - Novice
DESCRIPTION:
URL:https://northerndelawarewrestlingacademy.org/event/practice-novice-2/
LOCATION:Appoquinimink High School\, 1080 Bunker Hill Rd\, Middletown\, DE\, 19709
END:VEVENT
BEGIN:VEVENT
DTSTART;TZID=UTC:20230919T190000
DTEND;TZID=UTC:20230919T203000
DTSTAMP:20260422T035911
CREATED:20230919T172124Z
LAST-MODIFIED:20230919T172124Z
UID:1221-1695150000-1695155400@northerndelawarewrestlingacademy.org
SUMMARY:Practice - Advanced
DESCRIPTION:
URL:https://northerndelawarewrestlingacademy.org/event/practice-advanced-26/
LOCATION:DE
END:VEVENT
BEGIN:VEVENT
DTSTART;TZID=UTC:20230919T173000
DTEND;TZID=UTC:20230919T190000
DTSTAMP:20260422T035911
CREATED:20230915T142316Z
LAST-MODIFIED:20230915T143145Z
UID:992-1695144600-1695150000@northerndelawarewrestlingacademy.org
SUMMARY:Practice - Novice
DESCRIPTION:
URL:https://northerndelawarewrestlingacademy.org/event/practice-novice/
LOCATION:Appoquinimink High School\, 1080 Bunker Hill Rd\, Middletown\, DE\, 19709
END:VEVENT
END:VCALENDAR