BEGIN:VCALENDAR
VERSION:2.0
PRODID:-//Northern Delaware Wrestling Academy - ECPv6.10.2//NONSGML v1.0//EN
CALSCALE:GREGORIAN
METHOD:PUBLISH
X-ORIGINAL-URL:https://northerndelawarewrestlingacademy.org
X-WR-CALDESC:Events for Northern Delaware Wrestling Academy
REFRESH-INTERVAL;VALUE=DURATION:PT1H
X-Robots-Tag:noindex
X-PUBLISHED-TTL:PT1H
BEGIN:VTIMEZONE
TZID:UTC
BEGIN:STANDARD
TZOFFSETFROM:+0000
TZOFFSETTO:+0000
TZNAME:UTC
DTSTART:20240101T000000
END:STANDARD
END:VTIMEZONE
BEGIN:VEVENT
DTSTART;TZID=UTC:20240329T080000
DTEND;TZID=UTC:20240330T170000
DTSTAMP:20260421T115636
CREATED:20240311T150348Z
LAST-MODIFIED:20240311T150431Z
UID:1841-1711699200-1711818000@northerndelawarewrestlingacademy.org
SUMMARY:War At The Shore Tournament
DESCRIPTION:
URL:https://northerndelawarewrestlingacademy.org/event/war-at-the-shore/
LOCATION:Wildwood Convention Center\, 4501 Boardwalk\, Wildwood\, NJ\, 08260\, United States
END:VEVENT
BEGIN:VEVENT
DTSTART;TZID=UTC:20240328T190000
DTEND;TZID=UTC:20240328T203000
DTSTAMP:20260421T115636
CREATED:20231207T123659Z
LAST-MODIFIED:20240311T153126Z
UID:1403-1711652400-1711657800@northerndelawarewrestlingacademy.org
SUMMARY:Practice - Advanced
DESCRIPTION:
URL:https://northerndelawarewrestlingacademy.org/event/practice-advanced-55/
LOCATION:NJ
END:VEVENT
BEGIN:VEVENT
DTSTART;TZID=UTC:20240328T173000
DTEND;TZID=UTC:20240328T190000
DTSTAMP:20260421T115636
CREATED:20231207T123611Z
LAST-MODIFIED:20240311T153058Z
UID:1401-1711647000-1711652400@northerndelawarewrestlingacademy.org
SUMMARY:Practice - Novice
DESCRIPTION:
URL:https://northerndelawarewrestlingacademy.org/event/practice-novice-53/
LOCATION:NJ
END:VEVENT
BEGIN:VEVENT
DTSTART;TZID=UTC:20240326T190000
DTEND;TZID=UTC:20240326T203000
DTSTAMP:20260421T115636
CREATED:20231207T123533Z
LAST-MODIFIED:20240311T153033Z
UID:1399-1711479600-1711485000@northerndelawarewrestlingacademy.org
SUMMARY:Practice - Advanced
DESCRIPTION:
URL:https://northerndelawarewrestlingacademy.org/event/practice-advanced-54/
LOCATION:NJ
END:VEVENT
BEGIN:VEVENT
DTSTART;TZID=UTC:20240326T173000
DTEND;TZID=UTC:20240326T190000
DTSTAMP:20260421T115636
CREATED:20231207T123501Z
LAST-MODIFIED:20240311T153000Z
UID:1397-1711474200-1711479600@northerndelawarewrestlingacademy.org
SUMMARY:Practice - Novice
DESCRIPTION:
URL:https://northerndelawarewrestlingacademy.org/event/practice-novice-52/
LOCATION:NJ
END:VEVENT
BEGIN:VEVENT
DTSTART;VALUE=DATE:20240324
DTEND;VALUE=DATE:20240325
DTSTAMP:20260421T115636
CREATED:20240311T150125Z
LAST-MODIFIED:20240311T150125Z
UID:1839-1711238400-1711324799@northerndelawarewrestlingacademy.org
SUMMARY:Compete Classic
DESCRIPTION:
URL:https://northerndelawarewrestlingacademy.org/event/compete-classic/
LOCATION:Smyrna High School\, Smyrna\, DE
END:VEVENT
BEGIN:VEVENT
DTSTART;TZID=UTC:20240321T190000
DTEND;TZID=UTC:20240321T203000
DTSTAMP:20260421T115636
CREATED:20231207T123416Z
LAST-MODIFIED:20240311T152932Z
UID:1395-1711047600-1711053000@northerndelawarewrestlingacademy.org
SUMMARY:Practice - Advanced
DESCRIPTION:
URL:https://northerndelawarewrestlingacademy.org/event/practice-advanced-53/
LOCATION:NJ
END:VEVENT
BEGIN:VEVENT
DTSTART;TZID=UTC:20240321T173000
DTEND;TZID=UTC:20240321T190000
DTSTAMP:20260421T115636
CREATED:20231207T123339Z
LAST-MODIFIED:20240311T152803Z
UID:1393-1711042200-1711047600@northerndelawarewrestlingacademy.org
SUMMARY:Practice - Novice
DESCRIPTION:
URL:https://northerndelawarewrestlingacademy.org/event/practice-novice-51/
LOCATION:NJ
END:VEVENT
BEGIN:VEVENT
DTSTART;TZID=UTC:20240319T190000
DTEND;TZID=UTC:20240319T203000
DTSTAMP:20260421T115636
CREATED:20231207T123304Z
LAST-MODIFIED:20240311T152840Z
UID:1391-1710874800-1710880200@northerndelawarewrestlingacademy.org
SUMMARY:Practice - Advanced
DESCRIPTION:
URL:https://northerndelawarewrestlingacademy.org/event/practice-advanced-52/
LOCATION:NJ
END:VEVENT
BEGIN:VEVENT
DTSTART;TZID=UTC:20240319T173000
DTEND;TZID=UTC:20240319T190000
DTSTAMP:20260421T115636
CREATED:20231207T123225Z
LAST-MODIFIED:20240311T152739Z
UID:1389-1710869400-1710874800@northerndelawarewrestlingacademy.org
SUMMARY:Practice - Novice
DESCRIPTION:
URL:https://northerndelawarewrestlingacademy.org/event/practice-novice-50/
LOCATION:NJ
END:VEVENT
BEGIN:VEVENT
DTSTART;TZID=UTC:20240314T190000
DTEND;TZID=UTC:20240314T203000
DTSTAMP:20260421T115636
CREATED:20231207T123145Z
LAST-MODIFIED:20240311T152713Z
UID:1387-1710442800-1710448200@northerndelawarewrestlingacademy.org
SUMMARY:Practice - Advanced
DESCRIPTION:
URL:https://northerndelawarewrestlingacademy.org/event/practice-advanced-51/
LOCATION:NJ
END:VEVENT
BEGIN:VEVENT
DTSTART;TZID=UTC:20240314T173000
DTEND;TZID=UTC:20240314T190000
DTSTAMP:20260421T115636
CREATED:20231207T123057Z
LAST-MODIFIED:20240311T152647Z
UID:1385-1710437400-1710442800@northerndelawarewrestlingacademy.org
SUMMARY:Practice - Novice
DESCRIPTION:
URL:https://northerndelawarewrestlingacademy.org/event/practice-novice-49/
LOCATION:NJ
END:VEVENT
BEGIN:VEVENT
DTSTART;TZID=UTC:20240312T190000
DTEND;TZID=UTC:20240312T203000
DTSTAMP:20260421T115636
CREATED:20231207T122926Z
LAST-MODIFIED:20240311T152542Z
UID:1383-1710270000-1710275400@northerndelawarewrestlingacademy.org
SUMMARY:Practice - Advanced
DESCRIPTION:
URL:https://northerndelawarewrestlingacademy.org/event/practice-advanced-50/
LOCATION:NJ
END:VEVENT
BEGIN:VEVENT
DTSTART;TZID=UTC:20240312T173000
DTEND;TZID=UTC:20240312T190000
DTSTAMP:20260421T115636
CREATED:20231207T122841Z
LAST-MODIFIED:20240311T152625Z
UID:1381-1710264600-1710270000@northerndelawarewrestlingacademy.org
SUMMARY:Practice - Novice
DESCRIPTION:
URL:https://northerndelawarewrestlingacademy.org/event/practice-novice-48/
LOCATION:NJ
END:VEVENT
BEGIN:VEVENT
DTSTART;VALUE=DATE:20240309
DTEND;VALUE=DATE:20240310
DTSTAMP:20260421T115636
CREATED:20240129T174540Z
LAST-MODIFIED:20240129T174600Z
UID:1763-1709942400-1710028799@northerndelawarewrestlingacademy.org
SUMMARY:Delaware Kids Scholastic State Championships
DESCRIPTION:
URL:https://northerndelawarewrestlingacademy.org/event/delaware-state-kids-scholastic-state-championships/
LOCATION:Sussex Technical High School\, Sussex Technical High School\, Georgetown\, DE\, 19947
END:VEVENT
BEGIN:VEVENT
DTSTART;TZID=UTC:20240307T183000
DTEND;TZID=UTC:20240307T200000
DTSTAMP:20260421T115636
CREATED:20231207T122719Z
LAST-MODIFIED:20231207T122719Z
UID:1379-1709836200-1709841600@northerndelawarewrestlingacademy.org
SUMMARY:Practice - Advanced
DESCRIPTION:
URL:https://northerndelawarewrestlingacademy.org/event/practice-advanced-49/
LOCATION:NJ
END:VEVENT
BEGIN:VEVENT
DTSTART;TZID=UTC:20240307T173000
DTEND;TZID=UTC:20240307T183000
DTSTAMP:20260421T115636
CREATED:20231207T122638Z
LAST-MODIFIED:20231207T122638Z
UID:1377-1709832600-1709836200@northerndelawarewrestlingacademy.org
SUMMARY:Practice - Novice
DESCRIPTION:
URL:https://northerndelawarewrestlingacademy.org/event/practice-novice-47/
LOCATION:NJ
END:VEVENT
BEGIN:VEVENT
DTSTART;TZID=UTC:20240305T183000
DTEND;TZID=UTC:20240305T200000
DTSTAMP:20260421T115636
CREATED:20231207T122605Z
LAST-MODIFIED:20231207T122605Z
UID:1375-1709663400-1709668800@northerndelawarewrestlingacademy.org
SUMMARY:Practice - Advanced
DESCRIPTION:
URL:https://northerndelawarewrestlingacademy.org/event/practice-advanced-48/
LOCATION:NJ
END:VEVENT
BEGIN:VEVENT
DTSTART;TZID=UTC:20240305T173000
DTEND;TZID=UTC:20240305T183000
DTSTAMP:20260421T115636
CREATED:20231207T122531Z
LAST-MODIFIED:20231207T122531Z
UID:1373-1709659800-1709663400@northerndelawarewrestlingacademy.org
SUMMARY:Practice - Novice
DESCRIPTION:
URL:https://northerndelawarewrestlingacademy.org/event/practice-novice-46/
LOCATION:NJ
END:VEVENT
BEGIN:VEVENT
DTSTART;TZID=UTC:20240229T183000
DTEND;TZID=UTC:20240229T200000
DTSTAMP:20260421T115636
CREATED:20231207T122117Z
LAST-MODIFIED:20231207T122117Z
UID:1369-1709231400-1709236800@northerndelawarewrestlingacademy.org
SUMMARY:Practice - Advanced
DESCRIPTION:
URL:https://northerndelawarewrestlingacademy.org/event/practice-advanced-47/
LOCATION:NJ
END:VEVENT
BEGIN:VEVENT
DTSTART;TZID=UTC:20240229T173000
DTEND;TZID=UTC:20240229T183000
DTSTAMP:20260421T115636
CREATED:20231207T122048Z
LAST-MODIFIED:20231207T122048Z
UID:1367-1709227800-1709231400@northerndelawarewrestlingacademy.org
SUMMARY:Practice - Novice
DESCRIPTION:
URL:https://northerndelawarewrestlingacademy.org/event/practice-novice-45/
LOCATION:NJ
END:VEVENT
BEGIN:VEVENT
DTSTART;TZID=UTC:20240227T183000
DTEND;TZID=UTC:20240227T200000
DTSTAMP:20260421T115636
CREATED:20231207T122008Z
LAST-MODIFIED:20231207T122008Z
UID:1365-1709058600-1709064000@northerndelawarewrestlingacademy.org
SUMMARY:Practice - Advanced
DESCRIPTION:
URL:https://northerndelawarewrestlingacademy.org/event/practice-advanced-46/
LOCATION:NJ
END:VEVENT
BEGIN:VEVENT
DTSTART;TZID=UTC:20240227T173000
DTEND;TZID=UTC:20240227T183000
DTSTAMP:20260421T115636
CREATED:20231207T121933Z
LAST-MODIFIED:20231207T121933Z
UID:1363-1709055000-1709058600@northerndelawarewrestlingacademy.org
SUMMARY:Practice - Novice
DESCRIPTION:
URL:https://northerndelawarewrestlingacademy.org/event/practice-novice-44/
LOCATION:NJ
END:VEVENT
BEGIN:VEVENT
DTSTART;TZID=UTC:20240222T183000
DTEND;TZID=UTC:20240222T200000
DTSTAMP:20260421T115636
CREATED:20231207T121858Z
LAST-MODIFIED:20231207T121858Z
UID:1361-1708626600-1708632000@northerndelawarewrestlingacademy.org
SUMMARY:Practice - Advanced
DESCRIPTION:
URL:https://northerndelawarewrestlingacademy.org/event/practice-advanced-45/
LOCATION:NJ
END:VEVENT
BEGIN:VEVENT
DTSTART;TZID=UTC:20240222T173000
DTEND;TZID=UTC:20240222T183000
DTSTAMP:20260421T115636
CREATED:20231207T121823Z
LAST-MODIFIED:20231207T121823Z
UID:1359-1708623000-1708626600@northerndelawarewrestlingacademy.org
SUMMARY:Practice - Novice
DESCRIPTION:
URL:https://northerndelawarewrestlingacademy.org/event/practice-novice-43/
LOCATION:NJ
END:VEVENT
BEGIN:VEVENT
DTSTART;TZID=UTC:20240220T183000
DTEND;TZID=UTC:20240220T200000
DTSTAMP:20260421T115636
CREATED:20231207T121746Z
LAST-MODIFIED:20231207T121746Z
UID:1357-1708453800-1708459200@northerndelawarewrestlingacademy.org
SUMMARY:Practice - Advanced
DESCRIPTION:
URL:https://northerndelawarewrestlingacademy.org/event/practice-advanced-44/
LOCATION:NJ
END:VEVENT
BEGIN:VEVENT
DTSTART;TZID=UTC:20240220T173000
DTEND;TZID=UTC:20240220T183000
DTSTAMP:20260421T115636
CREATED:20231207T121712Z
LAST-MODIFIED:20231207T121712Z
UID:1355-1708450200-1708453800@northerndelawarewrestlingacademy.org
SUMMARY:Practice - Novice
DESCRIPTION:
URL:https://northerndelawarewrestlingacademy.org/event/practice-novice-42/
LOCATION:NJ
END:VEVENT
BEGIN:VEVENT
DTSTART;TZID=UTC:20240218T073000
DTEND;TZID=UTC:20240218T170000
DTSTAMP:20260421T115636
CREATED:20240129T174315Z
LAST-MODIFIED:20240129T174315Z
UID:1760-1708241400-1708275600@northerndelawarewrestlingacademy.org
SUMMARY:War of the Warriors Tournament
DESCRIPTION:
URL:https://northerndelawarewrestlingacademy.org/event/war-of-the-warriors-tournament/
LOCATION:Hatboro Horsham High School\,\, 899 Horsham Rd\, Horsham\, PA\, 19044
END:VEVENT
BEGIN:VEVENT
DTSTART;TZID=UTC:20240215T183000
DTEND;TZID=UTC:20240215T200000
DTSTAMP:20260421T115636
CREATED:20231207T121635Z
LAST-MODIFIED:20231207T121635Z
UID:1353-1708021800-1708027200@northerndelawarewrestlingacademy.org
SUMMARY:Practice - Advanced
DESCRIPTION:
URL:https://northerndelawarewrestlingacademy.org/event/practice-advanced-43/
LOCATION:NJ
END:VEVENT
BEGIN:VEVENT
DTSTART;TZID=UTC:20240215T173000
DTEND;TZID=UTC:20240215T183000
DTSTAMP:20260421T115636
CREATED:20231207T121555Z
LAST-MODIFIED:20231207T121555Z
UID:1351-1708018200-1708021800@northerndelawarewrestlingacademy.org
SUMMARY:Practice - Novice
DESCRIPTION:
URL:https://northerndelawarewrestlingacademy.org/event/practice-novice-41/
LOCATION:NJ
END:VEVENT
END:VCALENDAR