BEGIN:VCALENDAR
VERSION:2.0
PRODID:-//Northern Delaware Wrestling Academy - ECPv6.10.2//NONSGML v1.0//EN
CALSCALE:GREGORIAN
METHOD:PUBLISH
X-WR-CALNAME:Northern Delaware Wrestling Academy
X-ORIGINAL-URL:https://northerndelawarewrestlingacademy.org
X-WR-CALDESC:Events for Northern Delaware Wrestling Academy
REFRESH-INTERVAL;VALUE=DURATION:PT1H
X-Robots-Tag:noindex
X-PUBLISHED-TTL:PT1H
BEGIN:VTIMEZONE
TZID:UTC
BEGIN:STANDARD
TZOFFSETFROM:+0000
TZOFFSETTO:+0000
TZNAME:UTC
DTSTART:20240101T000000
END:STANDARD
END:VTIMEZONE
BEGIN:VEVENT
DTSTART;TZID=UTC:20240430T190000
DTEND;TZID=UTC:20240430T203000
DTSTAMP:20260421T092610
CREATED:20240329T174215Z
LAST-MODIFIED:20240329T174215Z
UID:1913-1714503600-1714509000@northerndelawarewrestlingacademy.org
SUMMARY:Practice - Advanced
DESCRIPTION:
URL:https://northerndelawarewrestlingacademy.org/event/practice-advanced-64/
END:VEVENT
BEGIN:VEVENT
DTSTART;TZID=UTC:20240430T173000
DTEND;TZID=UTC:20240430T190000
DTSTAMP:20260421T092610
CREATED:20240329T174143Z
LAST-MODIFIED:20240329T174143Z
UID:1911-1714498200-1714503600@northerndelawarewrestlingacademy.org
SUMMARY:Practice - Novice
DESCRIPTION:
URL:https://northerndelawarewrestlingacademy.org/event/practice-novice-62/
END:VEVENT
BEGIN:VEVENT
DTSTART;TZID=UTC:20240425T190000
DTEND;TZID=UTC:20240425T203000
DTSTAMP:20260421T092610
CREATED:20240327T154414Z
LAST-MODIFIED:20240327T154414Z
UID:1908-1714071600-1714077000@northerndelawarewrestlingacademy.org
SUMMARY:Practice - Advanced
DESCRIPTION:
URL:https://northerndelawarewrestlingacademy.org/event/practice-advanced-63/
END:VEVENT
BEGIN:VEVENT
DTSTART;TZID=UTC:20240425T173000
DTEND;TZID=UTC:20240425T190000
DTSTAMP:20260421T092610
CREATED:20240327T154342Z
LAST-MODIFIED:20240327T154342Z
UID:1906-1714066200-1714071600@northerndelawarewrestlingacademy.org
SUMMARY:Practice - Novice
DESCRIPTION:
URL:https://northerndelawarewrestlingacademy.org/event/practice-novice-61/
END:VEVENT
BEGIN:VEVENT
DTSTART;TZID=UTC:20240423T190000
DTEND;TZID=UTC:20240423T203000
DTSTAMP:20260421T092610
CREATED:20240327T154303Z
LAST-MODIFIED:20240327T154303Z
UID:1904-1713898800-1713904200@northerndelawarewrestlingacademy.org
SUMMARY:Practice - Advanced
DESCRIPTION:
URL:https://northerndelawarewrestlingacademy.org/event/practice-advanced-62/
END:VEVENT
BEGIN:VEVENT
DTSTART;TZID=UTC:20240423T173000
DTEND;TZID=UTC:20240423T190000
DTSTAMP:20260421T092610
CREATED:20240327T154233Z
LAST-MODIFIED:20240327T154233Z
UID:1902-1713893400-1713898800@northerndelawarewrestlingacademy.org
SUMMARY:Practice - Novice
DESCRIPTION:
URL:https://northerndelawarewrestlingacademy.org/event/practice-novice-60/
END:VEVENT
BEGIN:VEVENT
DTSTART;TZID=UTC:20240421T070000
DTEND;TZID=UTC:20240421T170000
DTSTAMP:20260421T092610
CREATED:20240327T150136Z
LAST-MODIFIED:20240327T150136Z
UID:1872-1713682800-1713718800@northerndelawarewrestlingacademy.org
SUMMARY:Beast of the East Tournament
DESCRIPTION:
URL:https://northerndelawarewrestlingacademy.org/event/beast-of-the-east-tournament/
LOCATION:AI DuPont High School\, 50 Hillside Road\, Wilmington\, DE\, 19807
CATEGORIES:Tournaments
END:VEVENT
BEGIN:VEVENT
DTSTART;TZID=UTC:20240418T190000
DTEND;TZID=UTC:20240418T203000
DTSTAMP:20260421T092610
CREATED:20240327T154153Z
LAST-MODIFIED:20240327T154153Z
UID:1900-1713466800-1713472200@northerndelawarewrestlingacademy.org
SUMMARY:Practice - Advanced
DESCRIPTION:
URL:https://northerndelawarewrestlingacademy.org/event/practice-advanced-61/
END:VEVENT
BEGIN:VEVENT
DTSTART;TZID=UTC:20240418T173000
DTEND;TZID=UTC:20240418T190000
DTSTAMP:20260421T092610
CREATED:20240327T154116Z
LAST-MODIFIED:20240327T154116Z
UID:1898-1713461400-1713466800@northerndelawarewrestlingacademy.org
SUMMARY:Practice - Novice
DESCRIPTION:
URL:https://northerndelawarewrestlingacademy.org/event/practice-novice-59/
END:VEVENT
BEGIN:VEVENT
DTSTART;TZID=UTC:20240416T190000
DTEND;TZID=UTC:20240416T203000
DTSTAMP:20260421T092610
CREATED:20240327T154041Z
LAST-MODIFIED:20240327T154041Z
UID:1896-1713294000-1713299400@northerndelawarewrestlingacademy.org
SUMMARY:Practice - Advanced
DESCRIPTION:
URL:https://northerndelawarewrestlingacademy.org/event/practice-advanced-60/
END:VEVENT
BEGIN:VEVENT
DTSTART;TZID=UTC:20240416T173000
DTEND;TZID=UTC:20240416T190000
DTSTAMP:20260421T092610
CREATED:20240327T154006Z
LAST-MODIFIED:20240327T154006Z
UID:1894-1713288600-1713294000@northerndelawarewrestlingacademy.org
SUMMARY:Practice - Novice
DESCRIPTION:
URL:https://northerndelawarewrestlingacademy.org/event/practice-novice-58/
END:VEVENT
BEGIN:VEVENT
DTSTART;TZID=UTC:20240411T190000
DTEND;TZID=UTC:20240411T203000
DTSTAMP:20260421T092610
CREATED:20240327T153825Z
LAST-MODIFIED:20240327T153825Z
UID:1891-1712862000-1712867400@northerndelawarewrestlingacademy.org
SUMMARY:Practice - Advanced
DESCRIPTION:
URL:https://northerndelawarewrestlingacademy.org/event/practice-advanced-59/
END:VEVENT
BEGIN:VEVENT
DTSTART;TZID=UTC:20240411T173000
DTEND;TZID=UTC:20240411T190000
DTSTAMP:20260421T092610
CREATED:20240327T153757Z
LAST-MODIFIED:20240327T153757Z
UID:1889-1712856600-1712862000@northerndelawarewrestlingacademy.org
SUMMARY:Practice Novice
DESCRIPTION:
URL:https://northerndelawarewrestlingacademy.org/event/practice-novice-57/
END:VEVENT
BEGIN:VEVENT
DTSTART;TZID=UTC:20240409T190000
DTEND;TZID=UTC:20240409T203000
DTSTAMP:20260421T092610
CREATED:20240327T153629Z
LAST-MODIFIED:20240327T153629Z
UID:1886-1712689200-1712694600@northerndelawarewrestlingacademy.org
SUMMARY:Practice Advanced
DESCRIPTION:
URL:https://northerndelawarewrestlingacademy.org/event/practice-advanced-58/
END:VEVENT
BEGIN:VEVENT
DTSTART;TZID=UTC:20240409T173000
DTEND;TZID=UTC:20240409T190000
DTSTAMP:20260421T092610
CREATED:20240327T153557Z
LAST-MODIFIED:20240327T153557Z
UID:1884-1712683800-1712689200@northerndelawarewrestlingacademy.org
SUMMARY:Practice Novice
DESCRIPTION:
URL:https://northerndelawarewrestlingacademy.org/event/practice-novice-56/
END:VEVENT
BEGIN:VEVENT
DTSTART;VALUE=DATE:20240406
DTEND;VALUE=DATE:20240407
DTSTAMP:20260421T092610
CREATED:20240311T150512Z
LAST-MODIFIED:20240311T150512Z
UID:1845-1712361600-1712447999@northerndelawarewrestlingacademy.org
SUMMARY:MAWA South District Qualifier
DESCRIPTION:
URL:https://northerndelawarewrestlingacademy.org/event/mawa-south-district-qualifier/
LOCATION:Milford High School\, Milford\, DE
END:VEVENT
BEGIN:VEVENT
DTSTART;TZID=UTC:20240404T190000
DTEND;TZID=UTC:20240404T203000
DTSTAMP:20260421T092610
CREATED:20240327T153530Z
LAST-MODIFIED:20240327T153530Z
UID:1882-1712257200-1712262600@northerndelawarewrestlingacademy.org
SUMMARY:Practice - Advanced
DESCRIPTION:
URL:https://northerndelawarewrestlingacademy.org/event/practice-advanced-57/
END:VEVENT
BEGIN:VEVENT
DTSTART;TZID=UTC:20240404T173000
DTEND;TZID=UTC:20240404T190000
DTSTAMP:20260421T092610
CREATED:20240327T153456Z
LAST-MODIFIED:20240327T153456Z
UID:1880-1712251800-1712257200@northerndelawarewrestlingacademy.org
SUMMARY:Practice - Novice
DESCRIPTION:
URL:https://northerndelawarewrestlingacademy.org/event/practice-novice-55/
END:VEVENT
BEGIN:VEVENT
DTSTART;TZID=UTC:20240402T190000
DTEND;TZID=UTC:20240402T203000
DTSTAMP:20260421T092610
CREATED:20240327T153415Z
LAST-MODIFIED:20240327T153415Z
UID:1878-1712084400-1712089800@northerndelawarewrestlingacademy.org
SUMMARY:Practice Advanced
DESCRIPTION:
URL:https://northerndelawarewrestlingacademy.org/event/practice-advanced-56/
END:VEVENT
BEGIN:VEVENT
DTSTART;TZID=UTC:20240402T173000
DTEND;TZID=UTC:20240402T190000
DTSTAMP:20260421T092610
CREATED:20240327T153340Z
LAST-MODIFIED:20240327T153340Z
UID:1876-1712079000-1712084400@northerndelawarewrestlingacademy.org
SUMMARY:Practice - Novice
DESCRIPTION:
URL:https://northerndelawarewrestlingacademy.org/event/practice-novice-54/
LOCATION:Smyrna High School\, Smyrna\, DE
END:VEVENT
BEGIN:VEVENT
DTSTART;TZID=UTC:20240329T080000
DTEND;TZID=UTC:20240330T170000
DTSTAMP:20260421T092610
CREATED:20240311T150348Z
LAST-MODIFIED:20240311T150431Z
UID:1841-1711699200-1711818000@northerndelawarewrestlingacademy.org
SUMMARY:War At The Shore Tournament
DESCRIPTION:
URL:https://northerndelawarewrestlingacademy.org/event/war-at-the-shore/
LOCATION:Wildwood Convention Center\, 4501 Boardwalk\, Wildwood\, NJ\, 08260\, United States
END:VEVENT
BEGIN:VEVENT
DTSTART;TZID=UTC:20240328T190000
DTEND;TZID=UTC:20240328T203000
DTSTAMP:20260421T092610
CREATED:20231207T123659Z
LAST-MODIFIED:20240311T153126Z
UID:1403-1711652400-1711657800@northerndelawarewrestlingacademy.org
SUMMARY:Practice - Advanced
DESCRIPTION:
URL:https://northerndelawarewrestlingacademy.org/event/practice-advanced-55/
END:VEVENT
BEGIN:VEVENT
DTSTART;TZID=UTC:20240328T173000
DTEND;TZID=UTC:20240328T190000
DTSTAMP:20260421T092610
CREATED:20231207T123611Z
LAST-MODIFIED:20240311T153058Z
UID:1401-1711647000-1711652400@northerndelawarewrestlingacademy.org
SUMMARY:Practice - Novice
DESCRIPTION:
URL:https://northerndelawarewrestlingacademy.org/event/practice-novice-53/
END:VEVENT
BEGIN:VEVENT
DTSTART;TZID=UTC:20240326T190000
DTEND;TZID=UTC:20240326T203000
DTSTAMP:20260421T092610
CREATED:20231207T123533Z
LAST-MODIFIED:20240311T153033Z
UID:1399-1711479600-1711485000@northerndelawarewrestlingacademy.org
SUMMARY:Practice - Advanced
DESCRIPTION:
URL:https://northerndelawarewrestlingacademy.org/event/practice-advanced-54/
END:VEVENT
BEGIN:VEVENT
DTSTART;TZID=UTC:20240326T173000
DTEND;TZID=UTC:20240326T190000
DTSTAMP:20260421T092610
CREATED:20231207T123501Z
LAST-MODIFIED:20240311T153000Z
UID:1397-1711474200-1711479600@northerndelawarewrestlingacademy.org
SUMMARY:Practice - Novice
DESCRIPTION:
URL:https://northerndelawarewrestlingacademy.org/event/practice-novice-52/
END:VEVENT
BEGIN:VEVENT
DTSTART;VALUE=DATE:20240324
DTEND;VALUE=DATE:20240325
DTSTAMP:20260421T092610
CREATED:20240311T150125Z
LAST-MODIFIED:20240311T150125Z
UID:1839-1711238400-1711324799@northerndelawarewrestlingacademy.org
SUMMARY:Compete Classic
DESCRIPTION:
URL:https://northerndelawarewrestlingacademy.org/event/compete-classic/
LOCATION:Smyrna High School\, Smyrna\, DE
END:VEVENT
BEGIN:VEVENT
DTSTART;TZID=UTC:20240321T190000
DTEND;TZID=UTC:20240321T203000
DTSTAMP:20260421T092610
CREATED:20231207T123416Z
LAST-MODIFIED:20240311T152932Z
UID:1395-1711047600-1711053000@northerndelawarewrestlingacademy.org
SUMMARY:Practice - Advanced
DESCRIPTION:
URL:https://northerndelawarewrestlingacademy.org/event/practice-advanced-53/
END:VEVENT
BEGIN:VEVENT
DTSTART;TZID=UTC:20240321T173000
DTEND;TZID=UTC:20240321T190000
DTSTAMP:20260421T092610
CREATED:20231207T123339Z
LAST-MODIFIED:20240311T152803Z
UID:1393-1711042200-1711047600@northerndelawarewrestlingacademy.org
SUMMARY:Practice - Novice
DESCRIPTION:
URL:https://northerndelawarewrestlingacademy.org/event/practice-novice-51/
END:VEVENT
BEGIN:VEVENT
DTSTART;TZID=UTC:20240319T190000
DTEND;TZID=UTC:20240319T203000
DTSTAMP:20260421T092610
CREATED:20231207T123304Z
LAST-MODIFIED:20240311T152840Z
UID:1391-1710874800-1710880200@northerndelawarewrestlingacademy.org
SUMMARY:Practice - Advanced
DESCRIPTION:
URL:https://northerndelawarewrestlingacademy.org/event/practice-advanced-52/
END:VEVENT
BEGIN:VEVENT
DTSTART;TZID=UTC:20240319T173000
DTEND;TZID=UTC:20240319T190000
DTSTAMP:20260421T092610
CREATED:20231207T123225Z
LAST-MODIFIED:20240311T152739Z
UID:1389-1710869400-1710874800@northerndelawarewrestlingacademy.org
SUMMARY:Practice - Novice
DESCRIPTION:
URL:https://northerndelawarewrestlingacademy.org/event/practice-novice-50/
END:VEVENT
END:VCALENDAR